BEGIN:VCALENDAR
VERSION:2.0
PRODID:-//Whistler Creekside Village - ECPv6.15.20//NONSGML v1.0//EN
CALSCALE:GREGORIAN
METHOD:PUBLISH
X-WR-CALNAME:Whistler Creekside Village
X-ORIGINAL-URL:https://whistlercreeksidevillage.com
X-WR-CALDESC:Events for Whistler Creekside Village
REFRESH-INTERVAL;VALUE=DURATION:PT1H
X-Robots-Tag:noindex
X-PUBLISHED-TTL:PT1H
BEGIN:VTIMEZONE
TZID:America/Denver
BEGIN:DAYLIGHT
TZOFFSETFROM:-0700
TZOFFSETTO:-0600
TZNAME:MDT
DTSTART:20240310T090000
END:DAYLIGHT
BEGIN:STANDARD
TZOFFSETFROM:-0600
TZOFFSETTO:-0700
TZNAME:MST
DTSTART:20241103T080000
END:STANDARD
BEGIN:DAYLIGHT
TZOFFSETFROM:-0700
TZOFFSETTO:-0600
TZNAME:MDT
DTSTART:20250309T090000
END:DAYLIGHT
BEGIN:STANDARD
TZOFFSETFROM:-0600
TZOFFSETTO:-0700
TZNAME:MST
DTSTART:20251102T080000
END:STANDARD
BEGIN:DAYLIGHT
TZOFFSETFROM:-0700
TZOFFSETTO:-0600
TZNAME:MDT
DTSTART:20260308T090000
END:DAYLIGHT
BEGIN:STANDARD
TZOFFSETFROM:-0600
TZOFFSETTO:-0700
TZNAME:MST
DTSTART:20261101T080000
END:STANDARD
END:VTIMEZONE
BEGIN:VEVENT
DTSTART;TZID=America/Denver:20250207T130000
DTEND;TZID=America/Denver:20250207T130000
DTSTAMP:20260422T070530
CREATED:20250206T234808Z
LAST-MODIFIED:20250206T234857Z
UID:4988-1738933200-1738933200@whistlercreeksidevillage.com
SUMMARY:Country Barn Dance at Dusty's Bar & BBQ
DESCRIPTION:Country Barn Dance this Friday 7th Feb. Dakota Pearl taking the stage again for another awesome night of live music and line dancing. $10 double well spirits\, $6 Burt Reynolds & Fireball shots. 8pm\, Free Entry! Yee-Hawww 🤠🪩
URL:https://whistlercreeksidevillage.com/event/country-barn-dance-at-dustys-bar-bbq/
LOCATION:Dusty’s Bar & BBQ\, Dusty's Bar & BBQ\, Whistler\, Canada
ATTACH;FMTTYPE=image/jpeg:https://whistlercreeksidevillage.com/wp-content/uploads/2025/02/474857538_1207935591027506_4716485081296475082_n.jpg
END:VEVENT
END:VCALENDAR