BEGIN:VCALENDAR
VERSION:2.0
PRODID:-//Whistler Creekside Village - ECPv6.15.20//NONSGML v1.0//EN
CALSCALE:GREGORIAN
METHOD:PUBLISH
X-ORIGINAL-URL:https://whistlercreeksidevillage.com
X-WR-CALDESC:Events for Whistler Creekside Village
REFRESH-INTERVAL;VALUE=DURATION:PT1H
X-Robots-Tag:noindex
X-PUBLISHED-TTL:PT1H
BEGIN:VTIMEZONE
TZID:America/Denver
BEGIN:DAYLIGHT
TZOFFSETFROM:-0700
TZOFFSETTO:-0600
TZNAME:MDT
DTSTART:20250309T090000
END:DAYLIGHT
BEGIN:STANDARD
TZOFFSETFROM:-0600
TZOFFSETTO:-0700
TZNAME:MST
DTSTART:20251102T080000
END:STANDARD
BEGIN:DAYLIGHT
TZOFFSETFROM:-0700
TZOFFSETTO:-0600
TZNAME:MDT
DTSTART:20260308T090000
END:DAYLIGHT
BEGIN:STANDARD
TZOFFSETFROM:-0600
TZOFFSETTO:-0700
TZNAME:MST
DTSTART:20261101T080000
END:STANDARD
BEGIN:DAYLIGHT
TZOFFSETFROM:-0700
TZOFFSETTO:-0600
TZNAME:MDT
DTSTART:20270314T090000
END:DAYLIGHT
BEGIN:STANDARD
TZOFFSETFROM:-0600
TZOFFSETTO:-0700
TZNAME:MST
DTSTART:20271107T080000
END:STANDARD
END:VTIMEZONE
BEGIN:VEVENT
DTSTART;TZID=America/Denver:20260211T190000
DTEND;TZID=America/Denver:20260211T220000
DTSTAMP:20260421T140925
CREATED:20260204T185216Z
LAST-MODIFIED:20260204T185216Z
UID:5070-1770836400-1770847200@whistlercreeksidevillage.com
SUMMARY:Speed Dating
DESCRIPTION:Real dates. Real sparks. No swiping—just chemistry\, cocktails\, and quick connections. \n\nSave the Date Speed Dating is coming to Rockit Coffee Co. on February 11 at 7:00 PM\, and it’s the perfect way to meet someone special just in time for Valentine’s Day. \nWe’re bringing real-life connections to one of Whistler’s coziest spots for a night of fast-paced conversations\, relaxed vibes\, and zero dating-app fatigue. You’ll rotate through short\, guided chats with other local singles\, giving you plenty of chances to spark chemistry—without the pressure or awkwardness. \nThis is a licensed event\, with beer and wine available for purchase\, alongside Rockit’s great coffee offerings. Expect genuine connections and an intimate\, welcoming atmosphere designed to make meeting someone new actually fun. Whether you’re hoping to find your Valentine\, meet a new crush\, or simply enjoy a memorable night out\, this is your sign to try something different. \nEveryone registed is also entered into a draw to win a $50 Rockit gift card which will be drawn at the end of the evening! \n💬 How It Works\nThis is a structured speed dating event\, designed to keep things smooth\, comfortable\, and fun for everyone. \n\nArrive early (before 7:00 PM) to check in\nReceive your name tag\, seat number\, and match card\nTake your assigned seat — we’ll guide the rotations\nEnjoy a series of short\, timed conversations with other singles\nMark your matches at the end — we’ll handle the rest ✨
URL:https://whistlercreeksidevillage.com/event/speed-dating/
LOCATION:Rockit Coffee Co\, Rockit Coffee Co\, Whistler\, BC\, BC V8E 0B6\, Canada
ATTACH;FMTTYPE=image/jpeg:https://whistlercreeksidevillage.com/wp-content/uploads/2026/02/623231900_18037476575735404_2312577660632865551_n.jpg
END:VEVENT
END:VCALENDAR