BEGIN:VCALENDAR
VERSION:2.0
PRODID:-//Whistler Creekside Village - ECPv6.15.20//NONSGML v1.0//EN
CALSCALE:GREGORIAN
METHOD:PUBLISH
X-ORIGINAL-URL:https://whistlercreeksidevillage.com
X-WR-CALDESC:Events for Whistler Creekside Village
REFRESH-INTERVAL;VALUE=DURATION:PT1H
X-Robots-Tag:noindex
X-PUBLISHED-TTL:PT1H
BEGIN:VTIMEZONE
TZID:America/Denver
BEGIN:DAYLIGHT
TZOFFSETFROM:-0700
TZOFFSETTO:-0600
TZNAME:MDT
DTSTART:20250309T090000
END:DAYLIGHT
BEGIN:STANDARD
TZOFFSETFROM:-0600
TZOFFSETTO:-0700
TZNAME:MST
DTSTART:20251102T080000
END:STANDARD
BEGIN:DAYLIGHT
TZOFFSETFROM:-0700
TZOFFSETTO:-0600
TZNAME:MDT
DTSTART:20260308T090000
END:DAYLIGHT
BEGIN:STANDARD
TZOFFSETFROM:-0600
TZOFFSETTO:-0700
TZNAME:MST
DTSTART:20261101T080000
END:STANDARD
BEGIN:DAYLIGHT
TZOFFSETFROM:-0700
TZOFFSETTO:-0600
TZNAME:MDT
DTSTART:20270314T090000
END:DAYLIGHT
BEGIN:STANDARD
TZOFFSETFROM:-0600
TZOFFSETTO:-0700
TZNAME:MST
DTSTART:20271107T080000
END:STANDARD
END:VTIMEZONE
BEGIN:VEVENT
DTSTART;TZID=America/Denver:20260313T203000
DTEND;TZID=America/Denver:20260313T203000
DTSTAMP:20260421T180959
CREATED:20260226T200917Z
LAST-MODIFIED:20260226T200956Z
UID:5103-1773433800-1773433800@whistlercreeksidevillage.com
SUMMARY:Allmost Brothers
DESCRIPTION:🎵 SPECIAL ANNOUNCEMENT 📣 \nWe have a new live show booked for you!! The Almost Brothers Band (tribute to the legendary Allman Brothers Band) will be playing at Dusty’s on the 13th of March and we’d love to see you there. Tickets are $25 and can be purchased through the link 🔗 in our bio. Doors swing open at 8pm and the show starts at 8:30pm… Allmost Brothers pride themselves on their ability to connect with audiences\, transcending the label of a typical tribute band. Their performances often include original compositions and playful teases of classic tracks from other legendary musicians\, ensuring that each show is a unique celebration of Southern rock’s rich heritage. \nAs they continue to perform at festivals and venues across the region\, Allmost Brothers remain dedicated to honoring the spirit of the Allman Brothers Band while carving out their own identity in the music scene. Whether you’re a lifelong fan or new to the genre\, experiencing Allmost Brothers live guarantees an unforgettable journey through the sounds that defined a generation
URL:https://whistlercreeksidevillage.com/event/allmost-brothers/
LOCATION:Dusty’s Bar & BBQ\, Dusty's Bar & BBQ\, Whistler\, Canada
ATTACH;FMTTYPE=image/jpeg:https://whistlercreeksidevillage.com/wp-content/uploads/2026/02/638291440_18573134953024209_8767961072742123592_n.jpg
END:VEVENT
BEGIN:VEVENT
DTSTART;TZID=America/Denver:20260325T200000
DTEND;TZID=America/Denver:20260325T200000
DTSTAMP:20260421T180959
CREATED:20260226T200641Z
LAST-MODIFIED:20260226T201107Z
UID:5100-1774468800-1774468800@whistlercreeksidevillage.com
SUMMARY:The Stand-Up Standoff
DESCRIPTION:🔥 Welcome to Whistler’s Ultimate Stand-Up Comedy Competition & Show! \n👉 Never been? This ain’t no open mic—it’s a high pressure comedy cooker! Beginning with ‘The Standoff’\, our finalists have six minutes to get you giggling in a winner-take-all competition for cold hard cash— and YOU help decide the winner! Once the dust settles on this bare-knuckle comedy brawl\, our touring headliner steps into the spotlight to close out the night with a full-length knockout set! \n📆 Remaining Dates: MARCH 25⚡️APRIL 22 \n📍 The Next Show: Wednesday March 25th \n👉 Dusty’s Bar & BBQ – Whistler\, Creekside \n👉 Doors\, bar\, and food: 7:15pm (Grab dinner for the show!) \n👉 Showtime: 8:00pm | 19+ \n🎟 Choose Your Ticket!  \n• Early bird pricing: $20 (On Sale Now!) \n• General Admission: $25 \n• VIP Reserved Seat: $32 \n• VIP Reserved Table: $160 (up to 5 people included) \n  \nTHIS MONTH’S HEADLINER: SAM TONNING \nSelect credits include SiriusXM\, Just for Laughs Vancouver\, and the award-nominated podcast What’s So Funny? Named one of Reader’s Digest’s Comedians to Watch\, Sam’s debut special Dirty Jokes & More just dropped in June and we’re thrilled to have hime headlining the March Stand-Up Standoff! \n \nFEATURING ‘THE STANDOFF” COMEDIANS: \n\nMaria Rivadeneyra\nWillem Roelants\nMorgan Mitchell\nEvan Horley\nJon David\nZephyr
URL:https://whistlercreeksidevillage.com/event/the-stand-up-standoff-7/
LOCATION:Dusty’s Bar & BBQ\, Dusty's Bar & BBQ\, Whistler\, Canada
ATTACH;FMTTYPE=image/jpeg:https://whistlercreeksidevillage.com/wp-content/uploads/2026/02/642260982_122215340222286258_4748482955790636113_n.jpg
END:VEVENT
BEGIN:VEVENT
DTSTART;TZID=America/Denver:20260405T100000
DTEND;TZID=America/Denver:20260405T110000
DTSTAMP:20260421T180959
CREATED:20260319T001431Z
LAST-MODIFIED:20260319T001431Z
UID:5107-1775383200-1775386800@whistlercreeksidevillage.com
SUMMARY:🐣 CREEKSIDE EASTER EGG HUNT IS HERE!
DESCRIPTION:We’ve created a fun clue-based Easter adventure for families in Creekside Village — and you’re invited!\nFollow the clues around Creekside\, explore the village\, and discover where the Easter eggs are hiding. \n🍫 Chocolate eggs from Get The Goods\n🌭 Hot Dog BBQ at Rockit Coffee \nThis special hunt is also the launch of my new little business — See & Stroll\, a collection of self-guided family adventures designed right here in Whistler.\nTo celebrate\, you can get the hunt FREE 👇 \n1️⃣ Follow @seeandstroll\n2️⃣ Send us a DM saying EASTER\n3️⃣ We’ll send you the hunt! \n📅 April 5th\n⏰ 10am–11am\n📍 Creekside Village\nDesigned for kids ages 2–10\nCome explore\, solve clues\, and celebrate Easter with us 🐰
URL:https://whistlercreeksidevillage.com/event/%f0%9f%90%a3-creekside-easter-egg-hunt-is-here/
ATTACH;FMTTYPE=image/jpeg:https://whistlercreeksidevillage.com/wp-content/uploads/2026/03/652277141_17880175293481712_2353182717314527094_n.jpg
END:VEVENT
BEGIN:VEVENT
DTSTART;TZID=America/Denver:20260411T203000
DTEND;TZID=America/Denver:20260411T203000
DTSTAMP:20260421T180959
CREATED:20260329T024836Z
LAST-MODIFIED:20260329T024855Z
UID:5111-1775939400-1775939400@whistlercreeksidevillage.com
SUMMARY:Arrival live at Dusty's\, BC's Premier ABBA Tribute Act
DESCRIPTION:Dusty’s is proud to welcome – Arrival Canadas tribute to Abba the 6th installment of this years tribute series. \n  \nARRIVAL\, Canada’s Tribute to ABBA delivers an authentic\, high energy tribute to one of the greatest pop bands of all time! \nThis dynamic six piece group performs in dazzling costumes\, capturing the style\, spirit and unmistakeable sound of ABBA with incredible accuracy. \nFor over 20 years\, ARRIVAL has been packing venues across North America and beyond\, performing hundreds of shows at casinos\, theatres\, festivals and corporate events worldwide — from Las Vegas and the Dominican Republic\, Oregon\, Washington and Illinois in the USA to all of the major cities across Canada from East to West! \nAudiences are amazed at how true ARRIVAL sounds to the original ABBA and their vibrant choreography & stage presence take the experience to another level! \nRelive the magic\, the music and the memories of ABBA with ARRIVAL – Canada’s Tribute to ABBA! \n  \n  \n🎸 **** Live at Dusty’s Bar & BBQ\n📍 Whistler Creekside\n🎟️ Tickets on Sale Friday\,  March 27th\, 12:00pm
URL:https://whistlercreeksidevillage.com/event/arrival-live-at-dustys-bcs-premier-abba-tribute-act/
LOCATION:Dusty’s Bar & BBQ\, Dusty's Bar & BBQ\, Whistler\, Canada
ATTACH;FMTTYPE=image/jpeg:https://whistlercreeksidevillage.com/wp-content/uploads/2026/03/SnapInsta.to_657678778_18581041975024209_8729755041437865131_n.jpg
END:VEVENT
BEGIN:VEVENT
DTSTART;TZID=America/Denver:20260422T200000
DTEND;TZID=America/Denver:20260422T200000
DTSTAMP:20260421T180959
CREATED:20260413T232851Z
LAST-MODIFIED:20260413T233321Z
UID:5116-1776888000-1776888000@whistlercreeksidevillage.com
SUMMARY:The Stand-Up Standoff
DESCRIPTION:🔥 Welcome to Whistler’s Ultimate Stand-Up Comedy Competition & Show! \n👉 Never been? This high pressure comedy cooker begins with ‘The Standoff’\, as our vetted finalists get you giggling in a winner-take-all competition for cold hard cash with YOU helping to decide the champion! Once the dust settles on the bare-knuckle comedy brawl\, our touring headliner steps into the spotlight to close out the night with a full-length knockout set! \n📆 Remaining Dates: ⚡️APRIL 22⚡️ \n📍 The Next Show: Wednesday April 22nd \n👉 Dusty’s Bar & BBQ – Whistler\, Creekside \n👉 Doors\, bar\, and food: 7:15pm (Grab dinner for the show!) \n👉 Showtime: 8:00pm | 19+ \n🎟 Choose Your Ticket!  \n• Early bird pricing: $20 (On Sale Now!) \n• General Admission: $25 \n• VIP Reserved Seat: $32 \n• VIP Reserved Table: $160 (up to 5 people included) \n  \nTHIS MONTH’S HEADLINER: CASS FURMAN \nSelect credits include: CBC’s New Wave of Standup\, SiriusXM\, Just For Laughs Originals Album (2024)\, Comedy Here Often\, Pillow Talk\, Couples Clownselling\, and The PodCass. \n \nFEATURING ‘THE STANDOFF” COMEDIANS: \n\nAaron Campbell\nQuincy Thomas\nArash Narchi\nPatti Savard\nNicole Anne\nAmar Singh\n\n 
URL:https://whistlercreeksidevillage.com/event/the-stand-up-standoff-8/
LOCATION:Dusty’s Bar & BBQ\, Dusty's Bar & BBQ\, Whistler\, Canada
ATTACH;FMTTYPE=image/jpeg:https://whistlercreeksidevillage.com/wp-content/uploads/2026/04/SnapInsta.to_670415454_18586331833024209_4490858299886149205_n.jpg
END:VEVENT
BEGIN:VEVENT
DTSTART;TZID=America/Denver:20260510T100000
DTEND;TZID=America/Denver:20260510T140000
DTSTAMP:20260421T180959
CREATED:20260414T005927Z
LAST-MODIFIED:20260414T005927Z
UID:5119-1778407200-1778421600@whistlercreeksidevillage.com
SUMMARY:Community Garage Sale
DESCRIPTION:Spring must be here because our Community Garage Sale is back on Sunday May 10th ⏰ \n📍 Creekside Underground Parking\n🗓️ Sunday May 10\, 10 AM – 2 PM\n💰 Sellers: tickets are required\, available now!\n🛒 Shoppers: free to attend\, drop in anytime 10AM – 2PM \n🔗 Details via our events page link in bio \nThis event is bought to your in partnership with @rmwhistler and @whistlerblackcomb.
URL:https://whistlercreeksidevillage.com/event/community-garage-sale/
LOCATION:Creekside Underground Parkade\, 2071 Lake Placid Rd\, Whistler
ATTACH;FMTTYPE=image/jpeg:https://whistlercreeksidevillage.com/wp-content/uploads/2026/04/SnapInsta.to_661356885_1395062339314382_6248026430710659834_n-1.jpg
END:VEVENT
END:VCALENDAR