BEGIN:VCALENDAR
VERSION:2.0
PRODID:-//Whistler Creekside Village - ECPv6.15.20//NONSGML v1.0//EN
CALSCALE:GREGORIAN
METHOD:PUBLISH
X-WR-CALNAME:Whistler Creekside Village
X-ORIGINAL-URL:https://whistlercreeksidevillage.com
X-WR-CALDESC:Events for Whistler Creekside Village
REFRESH-INTERVAL;VALUE=DURATION:PT1H
X-Robots-Tag:noindex
X-PUBLISHED-TTL:PT1H
BEGIN:VTIMEZONE
TZID:America/Denver
BEGIN:DAYLIGHT
TZOFFSETFROM:-0700
TZOFFSETTO:-0600
TZNAME:MDT
DTSTART:20230312T090000
END:DAYLIGHT
BEGIN:STANDARD
TZOFFSETFROM:-0600
TZOFFSETTO:-0700
TZNAME:MST
DTSTART:20231105T080000
END:STANDARD
BEGIN:DAYLIGHT
TZOFFSETFROM:-0700
TZOFFSETTO:-0600
TZNAME:MDT
DTSTART:20240310T090000
END:DAYLIGHT
BEGIN:STANDARD
TZOFFSETFROM:-0600
TZOFFSETTO:-0700
TZNAME:MST
DTSTART:20241103T080000
END:STANDARD
BEGIN:DAYLIGHT
TZOFFSETFROM:-0700
TZOFFSETTO:-0600
TZNAME:MDT
DTSTART:20250309T090000
END:DAYLIGHT
BEGIN:STANDARD
TZOFFSETFROM:-0600
TZOFFSETTO:-0700
TZNAME:MST
DTSTART:20251102T080000
END:STANDARD
END:VTIMEZONE
BEGIN:VEVENT
DTSTART;VALUE=DATE:20240516
DTEND;VALUE=DATE:20240521
DTSTAMP:20260422T154702
CREATED:20240515T050318Z
LAST-MODIFIED:20240515T050318Z
UID:4910-1715878800-1716224399@whistlercreeksidevillage.com
SUMMARY:Sidewalk Sale in Creekside Village
DESCRIPTION:Join us for a fantastic Sidewalk Sale from May 17-20th! 🛍️✨ \nParticipating Stores: \n\nAbigail Lifestyle Boutique\n122 West\nGet The Goods\nMountain Chic Hair Lounge\n\nDon’t miss out on amazing deals and a fun shopping experience! See you there! 🎉
URL:https://whistlercreeksidevillage.com/event/sidewalk-sale-in-creekside-village/
LOCATION:Whistler Creekside Village\, 2055 Lake Placid Rd\, Whistler
ATTACH;FMTTYPE=image/jpeg:https://whistlercreeksidevillage.com/wp-content/uploads/2024/05/DSC00377-e1715724323150.jpg
END:VEVENT
BEGIN:VEVENT
DTSTART;VALUE=DATE:20240507
DTEND;VALUE=DATE:20240519
DTSTAMP:20260422T154702
CREATED:20240513T033442Z
LAST-MODIFIED:20240513T034241Z
UID:4889-1715101200-1716051599@whistlercreeksidevillage.com
SUMMARY:Aveda sale 25% off by Mountain Chic Hair Lounge
DESCRIPTION:Mother’s Day is coming on May 12th\, surprise her with gift of beauty. Aveda sale 25% off on all your favourite product start May 8th until May 18th.
URL:https://whistlercreeksidevillage.com/event/4889/
LOCATION:Mountain Chic Hair Lounge\, 2071 Lake Placid Rd\, Whistler
ATTACH;FMTTYPE=image/jpeg:https://whistlercreeksidevillage.com/wp-content/uploads/2024/05/IMG_6233.jpg
END:VEVENT
END:VCALENDAR