BEGIN:VCALENDAR
VERSION:2.0
PRODID:-//Whistler Creekside Village - ECPv6.15.20//NONSGML v1.0//EN
CALSCALE:GREGORIAN
METHOD:PUBLISH
X-WR-CALNAME:Whistler Creekside Village
X-ORIGINAL-URL:https://whistlercreeksidevillage.com
X-WR-CALDESC:Events for Whistler Creekside Village
REFRESH-INTERVAL;VALUE=DURATION:PT1H
X-Robots-Tag:noindex
X-PUBLISHED-TTL:PT1H
BEGIN:VTIMEZONE
TZID:America/Denver
BEGIN:DAYLIGHT
TZOFFSETFROM:-0700
TZOFFSETTO:-0600
TZNAME:MDT
DTSTART:20230312T090000
END:DAYLIGHT
BEGIN:STANDARD
TZOFFSETFROM:-0600
TZOFFSETTO:-0700
TZNAME:MST
DTSTART:20231105T080000
END:STANDARD
BEGIN:DAYLIGHT
TZOFFSETFROM:-0700
TZOFFSETTO:-0600
TZNAME:MDT
DTSTART:20240310T090000
END:DAYLIGHT
BEGIN:STANDARD
TZOFFSETFROM:-0600
TZOFFSETTO:-0700
TZNAME:MST
DTSTART:20241103T080000
END:STANDARD
BEGIN:DAYLIGHT
TZOFFSETFROM:-0700
TZOFFSETTO:-0600
TZNAME:MDT
DTSTART:20250309T090000
END:DAYLIGHT
BEGIN:STANDARD
TZOFFSETFROM:-0600
TZOFFSETTO:-0700
TZNAME:MST
DTSTART:20251102T080000
END:STANDARD
END:VTIMEZONE
BEGIN:VEVENT
DTSTART;TZID=America/Denver:20240706T040000
DTEND;TZID=America/Denver:20240706T080000
DTSTAMP:20260422T142401
CREATED:20240513T030619Z
LAST-MODIFIED:20240513T030727Z
UID:4880-1720238400-1720252800@whistlercreeksidevillage.com
SUMMARY:The Mom Market - Shop Local in Creekside Village
DESCRIPTION:🛍️ Join us for a special event showcasing local makers\, producers\, and food venues in Whistler Creekside Village. \n🛒 Imagine a farmers market atmosphere without the fresh produce\, filling Creekside Village with a delightful buzz. With vendors stationed throughout the Village\, you’ll enjoy a scenic stroll as you discover unique products and support businesses. Don’t miss this exciting event!
URL:https://whistlercreeksidevillage.com/event/the-mom-market-shop-local-in-creekside-village/
LOCATION:Whistler Creekside Village\, 2055 Lake Placid Rd\, Whistler
ATTACH;FMTTYPE=image/jpeg:https://whistlercreeksidevillage.com/wp-content/uploads/2024/05/Creekside-Summer.jpg
END:VEVENT
END:VCALENDAR