BEGIN:VCALENDAR
VERSION:2.0
PRODID:-//Whistler Creekside Village - ECPv6.15.20//NONSGML v1.0//EN
CALSCALE:GREGORIAN
METHOD:PUBLISH
X-ORIGINAL-URL:https://whistlercreeksidevillage.com
X-WR-CALDESC:Events for Whistler Creekside Village
REFRESH-INTERVAL;VALUE=DURATION:PT1H
X-Robots-Tag:noindex
X-PUBLISHED-TTL:PT1H
BEGIN:VTIMEZONE
TZID:America/Denver
BEGIN:DAYLIGHT
TZOFFSETFROM:-0700
TZOFFSETTO:-0600
TZNAME:MDT
DTSTART:20230312T090000
END:DAYLIGHT
BEGIN:STANDARD
TZOFFSETFROM:-0600
TZOFFSETTO:-0700
TZNAME:MST
DTSTART:20231105T080000
END:STANDARD
BEGIN:DAYLIGHT
TZOFFSETFROM:-0700
TZOFFSETTO:-0600
TZNAME:MDT
DTSTART:20240310T090000
END:DAYLIGHT
BEGIN:STANDARD
TZOFFSETFROM:-0600
TZOFFSETTO:-0700
TZNAME:MST
DTSTART:20241103T080000
END:STANDARD
BEGIN:DAYLIGHT
TZOFFSETFROM:-0700
TZOFFSETTO:-0600
TZNAME:MDT
DTSTART:20250309T090000
END:DAYLIGHT
BEGIN:STANDARD
TZOFFSETFROM:-0600
TZOFFSETTO:-0700
TZNAME:MST
DTSTART:20251102T080000
END:STANDARD
END:VTIMEZONE
BEGIN:VEVENT
DTSTART;TZID=America/Denver:20240810T040000
DTEND;TZID=America/Denver:20240810T080000
DTSTAMP:20260422T131006
CREATED:20240729T031311Z
LAST-MODIFIED:20240729T031311Z
UID:4919-1723262400-1723276800@whistlercreeksidevillage.com
SUMMARY:The Mom Market Vancouver
DESCRIPTION:🌟 Save the Date! 🌟 We’re thrilled to announce that we’ll be back at Creekside Village on August 10th from 11 AM to 3 PM for another spectacular market day! 🛍️✨ \nJoin us as we soak in the breathtaking views and indulge in a day filled with shopping\, delicious food\, and community vibes! Whether you’re a local enthusiast or a visitor seeking unforgettable experiences\, this market day promises something special for everyone. \nMark your calendars\, gather your friends and family\, and get ready to immerse yourself in the magic of Creekside Village once again! Don’t miss out—it’s going to be an unforgettable day! 🎉
URL:https://whistlercreeksidevillage.com/event/the-mom-market-vancouver/
LOCATION:Whistler Creekside Village\, 2055 Lake Placid Rd\, Whistler
ATTACH;FMTTYPE=image/jpeg:https://whistlercreeksidevillage.com/wp-content/uploads/2024/07/429490179_369908732556879_2331276472303535977_n.jpg
END:VEVENT
END:VCALENDAR