BEGIN:VCALENDAR
VERSION:2.0
PRODID:-//Whistler Creekside Village - ECPv6.15.20//NONSGML v1.0//EN
CALSCALE:GREGORIAN
METHOD:PUBLISH
X-WR-CALNAME:Whistler Creekside Village
X-ORIGINAL-URL:https://whistlercreeksidevillage.com
X-WR-CALDESC:Events for Whistler Creekside Village
REFRESH-INTERVAL;VALUE=DURATION:PT1H
X-Robots-Tag:noindex
X-PUBLISHED-TTL:PT1H
BEGIN:VTIMEZONE
TZID:America/Denver
BEGIN:DAYLIGHT
TZOFFSETFROM:-0700
TZOFFSETTO:-0600
TZNAME:MDT
DTSTART:20230312T090000
END:DAYLIGHT
BEGIN:STANDARD
TZOFFSETFROM:-0600
TZOFFSETTO:-0700
TZNAME:MST
DTSTART:20231105T080000
END:STANDARD
BEGIN:DAYLIGHT
TZOFFSETFROM:-0700
TZOFFSETTO:-0600
TZNAME:MDT
DTSTART:20240310T090000
END:DAYLIGHT
BEGIN:STANDARD
TZOFFSETFROM:-0600
TZOFFSETTO:-0700
TZNAME:MST
DTSTART:20241103T080000
END:STANDARD
BEGIN:DAYLIGHT
TZOFFSETFROM:-0700
TZOFFSETTO:-0600
TZNAME:MDT
DTSTART:20250309T090000
END:DAYLIGHT
BEGIN:STANDARD
TZOFFSETFROM:-0600
TZOFFSETTO:-0700
TZNAME:MST
DTSTART:20251102T080000
END:STANDARD
END:VTIMEZONE
BEGIN:VEVENT
DTSTART;VALUE=DATE:20240927
DTEND;VALUE=DATE:20240930
DTSTAMP:20260422T120326
CREATED:20240516T141619Z
LAST-MODIFIED:20240516T141752Z
UID:4913-1727456400-1727629199@whistlercreeksidevillage.com
SUMMARY:Ultra Trail Whistler by UTMB
DESCRIPTION:Your alpine playground is waiting for you at the 2024 Ultra Trail Whistler by UTMB. Join us for an epic event that tackles everything Whistler has to offer. Whistler Blackcomb\, a world class resort and home to the 2010 Winter Olympic Games\, sets the stage for your event. Each course tours this iconic destination and provides a balance of challenge and beauty. Runners will experience views of Black Tusk\, mountain lakes\, and alpine vistas. Enjoy two days of racing and three distances for the inaugural edition in 2024! \nUltra Trail Whistler by UTMB is grateful to run and play on the shared\, unceded territory of the Lil’wat People\, known in their language as L̓il̓wat7úl\, and the Squamish People\, known in their language as Sḵwx̱wú7mesh.
URL:https://whistlercreeksidevillage.com/event/ultra-trail-whistler-by-utmb/
LOCATION:Whistler Creekside Village\, 2055 Lake Placid Rd\, Whistler
ATTACH;FMTTYPE=image/jpeg:https://whistlercreeksidevillage.com/wp-content/uploads/2024/05/whistler.utmb_.jpg
END:VEVENT
END:VCALENDAR