BEGIN:VCALENDAR
VERSION:2.0
PRODID:-//Whistler Creekside Village - ECPv6.15.20//NONSGML v1.0//EN
CALSCALE:GREGORIAN
METHOD:PUBLISH
X-ORIGINAL-URL:https://whistlercreeksidevillage.com
X-WR-CALDESC:Events for Whistler Creekside Village
REFRESH-INTERVAL;VALUE=DURATION:PT1H
X-Robots-Tag:noindex
X-PUBLISHED-TTL:PT1H
BEGIN:VTIMEZONE
TZID:America/Denver
BEGIN:DAYLIGHT
TZOFFSETFROM:-0700
TZOFFSETTO:-0600
TZNAME:MDT
DTSTART:20240310T090000
END:DAYLIGHT
BEGIN:STANDARD
TZOFFSETFROM:-0600
TZOFFSETTO:-0700
TZNAME:MST
DTSTART:20241103T080000
END:STANDARD
BEGIN:DAYLIGHT
TZOFFSETFROM:-0700
TZOFFSETTO:-0600
TZNAME:MDT
DTSTART:20250309T090000
END:DAYLIGHT
BEGIN:STANDARD
TZOFFSETFROM:-0600
TZOFFSETTO:-0700
TZNAME:MST
DTSTART:20251102T080000
END:STANDARD
BEGIN:DAYLIGHT
TZOFFSETFROM:-0700
TZOFFSETTO:-0600
TZNAME:MDT
DTSTART:20260308T090000
END:DAYLIGHT
BEGIN:STANDARD
TZOFFSETFROM:-0600
TZOFFSETTO:-0700
TZNAME:MST
DTSTART:20261101T080000
END:STANDARD
END:VTIMEZONE
BEGIN:VEVENT
DTSTART;TZID=America/Denver:20251121T200000
DTEND;TZID=America/Denver:20251121T230000
DTSTAMP:20260421T165035
CREATED:20251104T151218Z
LAST-MODIFIED:20251104T151312Z
UID:5021-1763755200-1763766000@whistlercreeksidevillage.com
SUMMARY:BC/DC Live @ Dusty's
DESCRIPTION:Dusty’s is proud to welcome Canada’s favourite rock ’n’ roll salute! BC/DC is taking over the stage for our epic season opener! \nThere are tribute bands… and then there’s BC/DC. ⚡ \nA legendary rite of passage for rock fans\, BC/DC delivers the raw power\, swagger\, and energy of AC/DC like no one else can. With over 1\,500 shows under their belt and an over-the-top live performance that leaves crowds breathless\, this band doesn’t just cover AC/DC — they embody them. \nExpect all the classics — from Dirty Deeds and Let There Be Rock to Back in Black and Hells Bells — blasted out with absolute authority. Maniac guitars\, powerhouse vocals\, and pure rock ’n’ roll chaos — this is the show you’ll be talking about long after the lights go down. \n🎸 BC/DC Live at Dusty’s Bar & BBQ\n📍 Whistler Creekside\n🎟️ Tickets on Sale Friday\, October 24th\n🔥 Don’t miss our Season Opener — this one will sell out fast! \nTICKETS
URL:https://whistlercreeksidevillage.com/event/bc-dc-live-dustys/
LOCATION:Dusty’s Bar & BBQ\, Dusty's Bar & BBQ\, Whistler\, Canada
ATTACH;FMTTYPE=image/avif:https://whistlercreeksidevillage.com/wp-content/uploads/2025/11/BCDC-poster-1.avif
END:VEVENT
BEGIN:VEVENT
DTSTART;TZID=America/Denver:20251126T200000
DTEND;TZID=America/Denver:20251126T230000
DTSTAMP:20260421T165035
CREATED:20251111T230815Z
LAST-MODIFIED:20251111T230815Z
UID:5026-1764187200-1764198000@whistlercreeksidevillage.com
SUMMARY:The Stand-Up Standoff
DESCRIPTION:🔥 Welcome to Whistler’s Ultimate Stand-Up Comedy Competition & Show! \n👉 Never been? Here’s how it all goes down — The night kicks off with a stand-up comedy showdown like no other\, as our finalists hit the stage\, each delivering their tightest 6 minute sets in pursuit of cold hard cash and a coveted spot on the Laugh Out LIVE! main stage. Once the dust settles and the standoff is done\, our headlining act steps up to close out the night with a knockout set. It’s a bare-knuckle comedy brawl where the only thing hitting harder than the competition…are the punchlines! \n📆 Season 5 Dates: NOVEMBER 26⚡️JANUARY 28⚡️FEBRUARY 25⚡️MARCH 25⚡️APRIL 22 \n📍 The Next Show: Wednesday November 26th – Season Premiere! \n👉 Dusty’s Bar & BBQ – Whistler\, Creekside \n👉 Doors\, bar\, and food: 7:15pm (Grab dinner for the show!) \n👉 Showtime: 8:00pm | 19+ \n🎟 Choose Your Ticket! \n• Early bird pricing: $20 (On Sale Now!) \n• General Admission: $25 \n• Reserved VIP Table: $160 – Reserved table for up to 5 people – The best seats in the house! \nTHIS MONTH’S HEADLINER & FEATURE COMICS!\nTY BOISSONNAULT Fresh off his Western Canada Tour\, Ty Boissonnault is a regular at Yuk Yuks\, a feature comic at the Just For Laughs North West Festival and regular headliner at the Southrock Comedy Festival! He’s opened for Josh Adam Meyers\, toured across the country and is primed to bring you the funny! \nFEATURING ‘STANDOFF’ COMICS: \nAlex Svarez Emily McDonell Josh Flemmiing \nWalter Tenhaaf Parvin Soho Brandon Barrett Patricia Masur
URL:https://whistlercreeksidevillage.com/event/the-stand-up-standoff-4/
LOCATION:Dusty’s Bar & BBQ\, Dusty's Bar & BBQ\, Whistler\, Canada
ATTACH;FMTTYPE=image/webp:https://whistlercreeksidevillage.com/wp-content/uploads/2025/11/10bb1f6b-b94.webp
END:VEVENT
END:VCALENDAR