BEGIN:VCALENDAR
VERSION:2.0
PRODID:-//Whistler Creekside Village - ECPv6.15.20//NONSGML v1.0//EN
CALSCALE:GREGORIAN
METHOD:PUBLISH
X-ORIGINAL-URL:https://whistlercreeksidevillage.com
X-WR-CALDESC:Events for Whistler Creekside Village
REFRESH-INTERVAL;VALUE=DURATION:PT1H
X-Robots-Tag:noindex
X-PUBLISHED-TTL:PT1H
BEGIN:VTIMEZONE
TZID:America/Denver
BEGIN:DAYLIGHT
TZOFFSETFROM:-0700
TZOFFSETTO:-0600
TZNAME:MDT
DTSTART:20250309T090000
END:DAYLIGHT
BEGIN:STANDARD
TZOFFSETFROM:-0600
TZOFFSETTO:-0700
TZNAME:MST
DTSTART:20251102T080000
END:STANDARD
BEGIN:DAYLIGHT
TZOFFSETFROM:-0700
TZOFFSETTO:-0600
TZNAME:MDT
DTSTART:20260308T090000
END:DAYLIGHT
BEGIN:STANDARD
TZOFFSETFROM:-0600
TZOFFSETTO:-0700
TZNAME:MST
DTSTART:20261101T080000
END:STANDARD
BEGIN:DAYLIGHT
TZOFFSETFROM:-0700
TZOFFSETTO:-0600
TZNAME:MDT
DTSTART:20270314T090000
END:DAYLIGHT
BEGIN:STANDARD
TZOFFSETFROM:-0600
TZOFFSETTO:-0700
TZNAME:MST
DTSTART:20271107T080000
END:STANDARD
END:VTIMEZONE
BEGIN:VEVENT
DTSTART;TZID=America/Denver:20260116T203000
DTEND;TZID=America/Denver:20260116T203000
DTSTAMP:20260421T140931
CREATED:20260109T050524Z
LAST-MODIFIED:20260109T050613Z
UID:5066-1768595400-1768595400@whistlercreeksidevillage.com
SUMMARY:Dreams live at Dustys\, BC's premier Fleetwood Mac tribute band
DESCRIPTION:Dusty’s is proud to welcome Dreams to the stage for the 3rd installment of this years tribute series. \n  \nDREAMS the Ultimate Tribute to Fleetwood Mac is indeed the ultimate Fleetwood Mac experience! \nThe group is an authentic six piece tribute that captures the look\, sound & spirit of the legendary band! \nPerforming in stunning costumes inspired by the originals\, DREAMS brings Fleetwood Mac’s timeless hits to life with world class musicianship\, incredible harmonies and captivating stage presence! \nFor over 20 years this talented group has performed hundreds of shows from the Dominican Republic\, Las Vegas\, Chicago\, towns in Oregon\, Washington and all of the major cities from East to West in Canada! \nAudiences are amazed at how close DREAMS looks and sounds to the real thing! \nIf you’re looking for one of the most captivating and professional tribute acts out there\, book DREAMS and relive the magic of Fleetwood Mac all over again! \n  \n🎸 Dreams Live at Dusty’s Bar & BBQ\n📍 Whistler Creekside\n🎟️ Tickets on Sale Monday\, January 5th
URL:https://whistlercreeksidevillage.com/event/dreams-live-at-dustys-bcs-premier-fleetwood-mac-tribute-band/
LOCATION:Dusty’s Bar & BBQ\, Dusty's Bar & BBQ\, Whistler\, Canada
ATTACH;FMTTYPE=image/jpeg:https://whistlercreeksidevillage.com/wp-content/uploads/2026/01/Next-up-in-our-tribute-series-Dreams-the-ultimate-Fleetwood-Mac-tribute-✨Join-us-Friday-Jan.jpg
END:VEVENT
BEGIN:VEVENT
DTSTART;TZID=America/Denver:20260128T200000
DTEND;TZID=America/Denver:20260128T220000
DTSTAMP:20260421T140931
CREATED:20260101T173413Z
LAST-MODIFIED:20260101T173425Z
UID:5030-1769630400-1769637600@whistlercreeksidevillage.com
SUMMARY:The Stand-Up Standoff
DESCRIPTION:🔥 Welcome to Whistler’s Ultimate Stand-Up Comedy Competition & Show! \n👉 Never been? Here’s how it all goes down — The night kicks off with a stand-up comedy showdown like no other\, as our finalists hit the stage\, each delivering their tightest 6 minute sets in pursuit of cold hard cash and a coveted spot on the Laugh Out LIVE! main stage. Once the dust settles and the standoff is done\, our headlining act steps up to close out the night with a knockout set. It’s a bare-knuckle comedy brawl where the only thing hitting harder than the competition…are the punchlines! \n📆 Remaining Dates: JANUARY 28⚡️FEBRUARY 25⚡️MARCH 25⚡️APRIL 22 \n📍 The Next Show: Wednesday January 28th \n👉 Dusty’s Bar & BBQ – Whistler\, Creekside \n👉 Doors\, bar\, and food: 7:15pm (Grab dinner for the show!) \n👉 Showtime: 8:00pm | 19+ \n🎟 Choose Your Ticket!  \n• Early bird pricing: $20 (On Sale Now!)  \n• General Admission: $25  \n• Reserved VIP Table: $160 – Reserved table for up to 5 people – The best seats in the house!
URL:https://whistlercreeksidevillage.com/event/the-stand-up-standoff-5/
LOCATION:Dusty’s Bar & BBQ\, Dusty's Bar & BBQ\, Whistler\, Canada
ATTACH;FMTTYPE=image/jpeg:https://whistlercreeksidevillage.com/wp-content/uploads/2026/01/605739376_122209405184286258_3719880666658529286_n.jpg
END:VEVENT
BEGIN:VEVENT
DTSTART;TZID=America/Denver:20260130T170000
DTEND;TZID=America/Denver:20260130T200000
DTSTAMP:20260421T140931
CREATED:20260101T173803Z
LAST-MODIFIED:20260101T173845Z
UID:5033-1769792400-1769803200@whistlercreeksidevillage.com
SUMMARY:Glitter & Grind at Rockit Coffee Co.
DESCRIPTION:Get ready to sparkle and sweat at Glitter & Grind\, where glam\, coffee and groove meet on the dance floor!\nGet Ready for Glitter & Grind!\nDust off your platforms and tease that wig – this is old-school coffee meets drag. Our retro coffee shop is bringing you the drama of the disco era\, the attitude of the neon 80s\, with campy performances\, iconic music and unapologetic glamour. Starring Canada’s Drag Race ICON Sanjina Dabish Queen\, plus Vancouver celebrities Batty B Banks & Bliss. \nIts loud\, its dripping in glitter and chaos is guaranteed.
URL:https://whistlercreeksidevillage.com/event/glitter-grind-at-rockit-coffee-co/
LOCATION:Rockit Coffee Co\, Rockit Coffee Co\, Whistler\, BC\, BC V8E 0B6\, Canada
ATTACH;FMTTYPE=image/jpeg:https://whistlercreeksidevillage.com/wp-content/uploads/2026/01/SnapInsta.to_601333244_18542982913019999_6801062217154308153_n.jpg
END:VEVENT
END:VCALENDAR